Workbook

Sheet RESUMEN OFERTA
B1: Resumen OFERTA
B3: OFERTA
B5: LOTE 1. ELECTRICIDAD | G5: =H45 -> -
B7: CORREOS
B8: TARIFAS | C8: T. energía (€) | D8: T. potencia (€) | E8: Otros (€) | F8: IE (€) | G8: Alquileres (€) | H8: TOTAL (€)
B9: 2.0TD | C9: =IF(COUNTA('LOTE 1. Electricidad'!$C$15:$E$15,'LOTE 1. Electricidad'!L15:L16)=5,SUMPRODUCT('LOTE 1. Electricidad'!C23:H23,'Datos CONSUMOS'!C7:H7)/1000,"-") -> - | D9: =IF($C$9="-","-",SUMPRODUCT('LOTE 1. Electricidad'!C53:H53,'Datos CONSUMOS'!L7:Q7)) -> - | E9: =IF($C$9="-","-",34109.083550336) -> - | F9: =IF($C$9="-","-",(C9+D9+E9)*0.051127) -> - | G9: =IF($C$9="-","-",7059.88965645098) -> - | H9: =IF($C$9="-","-",SUM(C9:G9)) -> -
B10: 3.0TD | C10: =IF(COUNTA('LOTE 1. Electricidad'!$C$16:$H$16,'LOTE 1. Electricidad'!L15:L16)=8,SUMPRODUCT('LOTE 1. Electricidad'!C24:H24,'Datos CONSUMOS'!C8:H8)/1000,"-") -> - | D10: =IF($C$10="-","-",SUMPRODUCT('LOTE 1. Electricidad'!C54:H54,'Datos CONSUMOS'!L8:Q8)) -> - | E10: =IF($C$10="-","-",501159.045178696) -> - | F10: =IF($C$10="-","-",(C10+D10+E10)*0.051127) -> - | G10: =IF($C$10="-","-",128239.651158792) -> - | H10: =IF($C$10="-","-",SUM(C10:G10)) -> -
B11: 6.1TD | C11: =IF(COUNTA('LOTE 1. Electricidad'!$C$17:$H$17,'LOTE 1. Electricidad'!$L$15:$L$16)=8,SUMPRODUCT('LOTE 1. Electricidad'!C25:H25,'Datos CONSUMOS'!C9:H9)/1000,"-") -> - | D11: =IF($C$11="-","-",SUMPRODUCT('LOTE 1. Electricidad'!C55:H55,'Datos CONSUMOS'!L9:Q9)) -> - | E11: =IF($C$11="-","-",276462.283875661) -> - | F11: =IF($C$11="-","-",(C11+D11+E11)*0.051127) -> - | G11: =IF($C$11="-","-",8629.06960334534) -> - | H11: =IF($C$11="-","-",SUM(C11:G11)) -> -
B12: 6.2TD | C12: =IF(COUNTA('LOTE 1. Electricidad'!$C$18:$H$18,'LOTE 1. Electricidad'!$L$15:$L$16)=8,SUMPRODUCT('LOTE 1. Electricidad'!C26:H26,'Datos CONSUMOS'!C10:H10)/1000,"-") -> - | D12: =IF($C$12="-","-",SUMPRODUCT('LOTE 1. Electricidad'!C56:H56,'Datos CONSUMOS'!L10:Q10)) -> - | E12: =IF($C$12="-","-",12200) -> - | F12: =IF($C$12="-","-",(C12+D12+E12)*0.051127) -> - | G12: =IF($C$12="-","-",367.0725) -> - | H12: =IF($C$12="-","-",SUM(C12:G12)) -> -
B14: * Otros incluye derechos, excesos de potencia y reactiva, etc. | G14: Total LOTE 1 CORREOS (euros) | H14: =IF(COUNT(H9:H12)=4,SUM(H9:H12),"-") -> -
B18: TELECOM
B19: TARIFAS | C19: T. energía (€) | D19: T. potencia (€) | E19: Otros (€) | F19: IE (€) | G19: Alquileres (€) | H19: TOTAL (€)
B20: 2.0TD | C20: =IF(COUNTA('LOTE 1. Electricidad'!$C$15:$E$15,'LOTE 1. Electricidad'!L15:L16)=5,SUMPRODUCT('LOTE 1. Electricidad'!C23:H23,'Datos CONSUMOS'!C14:H14)/1000,"-") -> - | D20: =IF($C$20="-","-",SUMPRODUCT('LOTE 1. Electricidad'!C53:H53,'Datos CONSUMOS'!L14:Q14)) -> - | E20: =IF($C$20="-","-",2177.95693697036) -> - | F20: =IF($C$20="-","-",(C20+D20+E20)*0.051127) -> - | G20: =IF($C$20="-","-",450.792986824802) -> - | H20: =IF($C$20="-","-",SUM(C20:G20)) -> -
B21: 3.0TD | C21: =IF(COUNTA('LOTE 1. Electricidad'!$C$16:$H$16,'LOTE 1. Electricidad'!L15:L16)=8,SUMPRODUCT('LOTE 1. Electricidad'!C24:H24,'Datos CONSUMOS'!C15:H15)/1000,"-") -> - | D21: =IF($C$21="-","-",SUMPRODUCT('LOTE 1. Electricidad'!C54:H54,'Datos CONSUMOS'!L15:Q15)) -> - | E21: =IF($C$21="-","-",7263.5379015208) -> - | F21: =IF($C$21="-","-",(C21+D21+E21)*0.051127) -> - | G21: =IF($C$21="-","-",1858.63864102775) -> - | H21: =IF($C$21="-","-",SUM(C21:G21)) -> -
B22: 6.1TD | C22: =IF(COUNTA('LOTE 1. Electricidad'!$C$17:$H$17,'LOTE 1. Electricidad'!$L$15:$L$16)=8,SUMPRODUCT('LOTE 1. Electricidad'!C25:H25,'Datos CONSUMOS'!C16:H16)/1000,"-") -> - | D22: =IF($C$22="-","-",SUMPRODUCT('LOTE 1. Electricidad'!C55:H55,'Datos CONSUMOS'!L16:Q16)) -> - | E22: =IF($C$22="-","-",1108.31462305817) -> - | F22: =IF($C$22="-","-",(C22+D22+E22)*0.051127) -> - | G22: =IF($C$22="-","-",34.5932323595928) -> - | H22: =IF($C$22="-","-",SUM(C22:G22)) -> -
B24: * Otros incluye derechos, excesos de potencia y reactiva, etc | G24: Total LOTE 1 TELECOM (euros) | H24: =IF(COUNT(H20:H22)=3,SUM(H20:H22),"-") -> -
B28: CEX
B29: TARIFAS | C29: T. energía (€) | D29: T. potencia (€) | E29: Otros (€) | F29: IE (€) | G29: Alquileres (€) | H29: TOTAL (€)
B30: 2.0TD | C30: =IF(COUNTA('LOTE 1. Electricidad'!$C$15:$E$15,'LOTE 1. Electricidad'!L15:L16)=5,SUMPRODUCT('LOTE 1. Electricidad'!C23:H23,'Datos CONSUMOS'!C22:H22)/1000,"-") -> - | D30: =IF($C$30="-","-",SUMPRODUCT('LOTE 1. Electricidad'!C53:H53,'Datos CONSUMOS'!L22:Q22)) -> - | E30: =IF($C$30="-","-",12.9595126936415) -> - | F30: =IF($C$30="-","-",(C30+D30+E30)*0.051127) -> - | G30: =IF($C$30="-","-",2.6823567242276) -> - | H30: =IF($C$30="-","-",SUM(C30:G30)) -> -
B31: 3.0TD | C31: =IF(COUNTA('LOTE 1. Electricidad'!$C$16:$H$16,'LOTE 1. Electricidad'!L15:L16)=8,SUMPRODUCT('LOTE 1. Electricidad'!C24:H24,'Datos CONSUMOS'!C23:H23)/1000,"-") -> - | D31: =IF($C$31="-","-",SUMPRODUCT('LOTE 1. Electricidad'!C54:H54,'Datos CONSUMOS'!L23:Q23)) -> - | E31: =IF($C$31="-","-",46577.4169197827) -> - | F31: =IF($C$31="-","-",(C31+D31+E31)*0.051127) -> - | G31: =IF($C$31="-","-",11918.5152001812) -> - | H31: =IF($C$31="-","-",SUM(C31:G31)) -> -
B32: 6.1TD | C32: =IF(COUNTA('LOTE 1. Electricidad'!$C$17:$H$17,'LOTE 1. Electricidad'!$L$15:$L$16)=8,SUMPRODUCT('LOTE 1. Electricidad'!C25:H25,'Datos CONSUMOS'!C24:H24)/1000,"-") -> - | D32: =IF($C$32="-","-",SUMPRODUCT('LOTE 1. Electricidad'!C55:H55,'Datos CONSUMOS'!L24:Q24)) -> - | E32: =IF($C$32="-","-",5429.40150128089) -> - | F32: =IF($C$32="-","-",(C32+D32+E32)*0.051127) -> - | G32: =IF($C$32="-","-",169.465009122661) -> - | H32: =IF($C$32="-","-",SUM(C32:G32)) -> -
B34: * Otros incluye derechos, excesos de potencia y reactiva, etc | G34: Total LOTE 1 CEX (euros) | H34: =IF(COUNT(H30:H32)=3,SUM(H30:H32),"-") -> -
B38: TOTAL
B39: TARIFAS | C39: T. energía (€) | D39: T. potencia (€) | E39: Otros (€) | F39: IE (€) | G39: Alquileres (€) | H39: TOTAL (€)
B40: 2.0TD | C40: =IF(COUNTA('LOTE 1. Electricidad'!$C$15:$E$15,'LOTE 1. Electricidad'!L15:L16)=5,C30+C20+C9,"-") -> - | D40: =IF($C$40="-","-",D30+D20+D9) -> - | E40: =IF($C$40="-","-",E30+E20+E9) -> - | F40: =IF($C$40="-","-",F30+F20+F9) -> - | G40: =IF($C$40="-","-",G30+G20+G9) -> - | H40: =IF($C$40="-","-",SUM(C40:G40)) -> -
B41: 3.0TD | C41: =IF(COUNTA('LOTE 1. Electricidad'!$C$16:$H$16,'LOTE 1. Electricidad'!L15:L16)=8,C31+C21+C10,"-") -> - | D41: =IF($C$41="-","-",D10+D31+D21+D1) -> - | E41: =IF($C$41="-","-",E31+E21+E10) -> - | F41: =IF($C$41="-","-",F31+F21+F10) -> - | G41: =IF($C$41="-","-",G31+G21+G10) -> - | H41: =IF($C$41="-","-",SUM(C41:G41)) -> -
B42: 6.1TD | C42: =IF(COUNTA('LOTE 1. Electricidad'!$C$17:$H$17,'LOTE 1. Electricidad'!$L$15:$L$16)=8,C32+C22+C11,"-") -> - | D42: =IF($C$42="-","-",D32+D22+D11) -> - | E42: =IF($C$42="-","-",E32+E22+E11) -> - | F42: =IF($C$42="-","-",F32+F22+F11) -> - | G42: =IF($C$42="-","-",G32+G22+G11) -> - | H42: =IF($C$42="-","-",SUM(C42:G42)) -> -
B43: 6.2TD | C43: =+C12 -> - | D43: =+D12 -> - | E43: =+E12 -> - | F43: =+F12 -> - | G43: =+G12 -> - | H43: =IF($C$43="-","-",SUM(C43:G43)) -> -
B45: * Otros incluye derechos, excesos de potencia y reactiva, etc | G45: Total LOTE 1 (euros) | H45: =IF(COUNT(H40:H43)=4,SUM(H40:H43),"-") -> -
B49: LOTE 2. GAS | G49: =G61 -> -
B51: TARIFAS | C51: T. energía | D51: T. capacidad | E51: IEH | F51: Alquileres | G51: TOTAL (€)
B52: RL.1 | C52: =IF(COUNTA('LOTE 2 Gas'!C14,'LOTE 2 Gas'!C25,'LOTE 2 Gas'!C48)=3,'LOTE 2 Gas'!C36/1000*'Datos CONSUMOS'!F41,"-") -> - | D52: =IF($C$52="-","-",'LOTE 2 Gas'!C48*'Datos CONSUMOS'!C41*12) -> - | E52: =IF($C$52="-","-",0.234/1000*'Datos CONSUMOS'!F41) -> - | F52: =IF($C$52="-","-",2*12*'Datos CONSUMOS'!C41) -> - | G52: =IF($C$52="-","-",SUM(C52:F52)) -> -
B53: RL.2 | C53: =IF(COUNTA('LOTE 2 Gas'!C15,'LOTE 2 Gas'!C26,'LOTE 2 Gas'!C49)=3,'LOTE 2 Gas'!C37/1000*'Datos CONSUMOS'!F42,"-") -> - | D53: =IF($C$53="-","-",'LOTE 2 Gas'!C49*'Datos CONSUMOS'!C42*12) -> - | E53: =IF($C$53="-","-",0.234/1000*'Datos CONSUMOS'!F42) -> - | F53: =IF($C$53="-","-",2*12*'Datos CONSUMOS'!C42) -> - | G53: =IF($C$53="-","-",SUM(C53:F53)) -> -
B54: RL.3 | C54: =IF(COUNTA('LOTE 2 Gas'!C16,'LOTE 2 Gas'!C27,'LOTE 2 Gas'!C50)=3,'LOTE 2 Gas'!C38/1000*'Datos CONSUMOS'!F43,"-") -> - | D54: =IF($C$54="-","-",'LOTE 2 Gas'!C50*'Datos CONSUMOS'!C43*12) -> - | E54: =IF($C$54="-","-",0.234/1000*'Datos CONSUMOS'!F43) -> - | F54: =IF($C$54="-","-",2*12*'Datos CONSUMOS'!C43) -> - | G54: =IF($C$54="-","-",SUM(C54:F54)) -> -
B55: RL.4 | C55: =IF(COUNTA('LOTE 2 Gas'!C17,'LOTE 2 Gas'!C28,'LOTE 2 Gas'!C51)=3,'LOTE 2 Gas'!C39/1000*'Datos CONSUMOS'!F44,"-") -> - | D55: =IF($C$55="-","-",'LOTE 2 Gas'!C51*'Datos CONSUMOS'!C44*12) -> - | E55: =IF($C$55="-","-",0.234/1000*'Datos CONSUMOS'!F44) -> - | F55: =IF($C$55="-","-",2*12*'Datos CONSUMOS'!C44) -> - | G55: =IF($C$55="-","-",SUM(C55:F55)) -> -
B56: RLPS.2 | C56: =IF(COUNTA('LOTE 2 Gas'!C18,'LOTE 2 Gas'!C29,'LOTE 2 Gas'!C52)=3,'LOTE 2 Gas'!C40/1000*'Datos CONSUMOS'!F45,"-") -> - | D56: =IF($C$56="-","-",'LOTE 2 Gas'!C52*'Datos CONSUMOS'!C45*12) -> - | E56: =IF($C$56="-","-",0.234/1000*'Datos CONSUMOS'!F45) -> - | F56: =IF($C$56="-","-",2*12*'Datos CONSUMOS'!C45) -> - | G56: =IF($C$56="-","-",SUM(C56:F56)) -> -
B57: RLPS.3 | C57: =IF(COUNTA('LOTE 2 Gas'!C19,'LOTE 2 Gas'!C30,'LOTE 2 Gas'!C53)=3,'LOTE 2 Gas'!C41/1000*'Datos CONSUMOS'!F46,"-") -> - | D57: =IF($C$57="-","-",'LOTE 2 Gas'!C53*'Datos CONSUMOS'!C46*12) -> - | E57: =IF($C$57="-","-",0.234/1000*'Datos CONSUMOS'!F46) -> - | F57: =IF($C$57="-","-",2*12*'Datos CONSUMOS'!C46) -> - | G57: =IF($C$57="-","-",SUM(C57:F57)) -> -
B58: RLTB.5 | C58: =IF(COUNTA('LOTE 2 Gas'!C20,'LOTE 2 Gas'!C31,'LOTE 2 Gas'!C54)=3,'LOTE 2 Gas'!C42/1000*'Datos CONSUMOS'!F47,"-") -> - | D58: =IF($C$58="-","-",'LOTE 2 Gas'!C54*'Datos CONSUMOS'!C47*12) -> - | E58: =IF($C$58="-","-",0.234/1000*'Datos CONSUMOS'!F47) -> - | F58: =IF($C$58="-","-",2*12*'Datos CONSUMOS'!C47) -> - | G58: =IF($C$58="-","-",SUM(C58:F58)) -> -
B59: RLTB.6 | C59: =IF(COUNTA('LOTE 2 Gas'!C21,'LOTE 2 Gas'!C32,'LOTE 2 Gas'!C55)=3,'LOTE 2 Gas'!C43/1000*'Datos CONSUMOS'!F48,"-") -> - | D59: =IF($C$59="-","-",'LOTE 2 Gas'!C55*'Datos CONSUMOS'!C48*12) -> - | E59: =IF($C$59="-","-",0.234/1000*'Datos CONSUMOS'!F48) -> - | F59: =IF($C$59="-","-",2*12*'Datos CONSUMOS'!C48) -> - | G59: =IF($C$59="-","-",SUM(C59:F59)) -> -
F61: TOTAL LOTE 2. GAS (euros) | G61: =IF(COUNT(G52:G59)=8,SUM(G52:G59),"-") -> -

Sheet LOTE 1. Electricidad
B1: LOTE 1 Electricidad
B3: .- Coeficientes objeto de licitación: Celdas verdes. .- "DATOS PARA COMPLETAR PRECIO" únicamente a efectos de cálculo. .- Se facturarán los del mes de la entrega
B5: COSTES ENERGÍA ANUALES
B7: OMIP | C7: 70.23 | D7: (€/MWh)
C13: APUNTAMIENTOS (Ap)
B14: TARIFAS | C14: P 1 | D14: P 2 | E14: P 3 | F14: P 4 | G14: P 5 | H14: P 6
B15: 2.0TD | K15: CG | M15: eur/MWh
B16: 3.0TD | K16: GdO | M16: eur/MWh
B17: 6.1TD
B18: 6.2TD
C21: TÉRMINO DE ENERGÍA CALCULADO (€/MWh)
B22: TARIFAS | C22: P 1 | D22: P 2 | E22: P 3 | F22: P 4 | G22: P 5 | H22: P 6
B23: 2.0TD | C23: =+(($C$7*C15+C34+$L$33+$L$34+$L$35+$L$36)*(1+C41)+$L$16+$L$15+$L$37)*1.015+C47 -> 122.59568 | D23: =+(($C$7*D15+D34+$L$33+$L$34+$L$35+$L$36)*(1+D41)+$L$16+$L$15+$L$37)*1.015+D47 -> 53.713585 | E23: =+(($C$7*E15+E34+$L$33+$L$34+$L$35+$L$36)*(1+E41)+$L$16+$L$15+$L$37)*1.015+E47 -> 28.118193
B24: 3.0TD | C24: =+(($C$7*C16+C35+$L$33+$L$34+$L$35+$L$36)*(1+C42)+$L$16+$L$15+$L$37)*1.015+C48 -> 88.843253 | D24: =+(($C$7*D16+D35+$L$33+$L$34+$L$35+$L$36)*(1+D42)+$L$16+$L$15+$L$37)*1.015+D48 -> 64.137379 | E24: =+(($C$7*E16+E35+$L$33+$L$34+$L$35+$L$36)*(1+E42)+$L$16+$L$15+$L$37)*1.015+E48 -> 43.736015 | F24: =+(($C$7*F16+F35+$L$33+$L$34+$L$35+$L$36)*(1+F42)+$L$16+$L$15+$L$37)*1.015+F48 -> 34.07971 | G24: =+(($C$7*G16+G35+$L$33+$L$34+$L$35+$L$36)*(1+G42)+$L$16+$L$15+$L$37)*1.015+G48 -> 29.009482 | H24: =+(($C$7*H16+H35+$L$33+$L$34+$L$35+$L$36)*(1+H42)+$L$16+$L$15+$L$37)*1.015+H48 -> 27.724193
B25: 6.1TD | C25: =+(($C$7*C17+C36+$L$33+$L$34+$L$35+$L$36)*(1+C43)+$L$16+$L$15+$L$37)*1.015+C49 -> 69.195548 | D25: =+(($C$7*D17+D36+$L$33+$L$34+$L$35+$L$36)*(1+D43)+$L$16+$L$15+$L$37)*1.015+D49 -> 49.49728 | E25: =+(($C$7*E17+E36+$L$33+$L$34+$L$35+$L$36)*(1+E43)+$L$16+$L$15+$L$37)*1.015+E49 -> 35.425746 | F25: =+(($C$7*F17+F36+$L$33+$L$34+$L$35+$L$36)*(1+F43)+$L$16+$L$15+$L$37)*1.015+F49 -> 29.100802 | G25: =+(($C$7*G17+G36+$L$33+$L$34+$L$35+$L$36)*(1+G43)+$L$16+$L$15+$L$37)*1.015+G49 -> 24.818286 | H25: =+(($C$7*H17+H36+$L$33+$L$34+$L$35+$L$36)*(1+H43)+$L$16+$L$15+$L$37)*1.015+H49 -> 24.340213
B26: 6.2TD | C26: =+(($C$7*C18+C37+$L$33+$L$34+$L$35+$L$36)*(1+C44)+$L$16+$L$15+$L$37)*1.015+C50 -> 46.535693 | D26: =+(($C$7*D18+D37+$L$33+$L$34+$L$35+$L$36)*(1+D44)+$L$16+$L$15+$L$37)*1.015+D50 -> 36.474272 | E26: =+(($C$7*E18+E37+$L$33+$L$34+$L$35+$L$36)*(1+E44)+$L$16+$L$15+$L$37)*1.015+E50 -> 28.417819 | F26: =+(($C$7*F18+F37+$L$33+$L$34+$L$35+$L$36)*(1+F44)+$L$16+$L$15+$L$37)*1.015+F50 -> 25.245034 | G26: =+(($C$7*G18+G37+$L$33+$L$34+$L$35+$L$36)*(1+G44)+$L$16+$L$15+$L$37)*1.015+G50 -> 23.26565 | H26: =+(($C$7*H18+H37+$L$33+$L$34+$L$35+$L$36)*(1+H44)+$L$16+$L$15+$L$37)*1.015+H50 -> 23.059789
B27: Término energía CON ATR SIN IE
B30: DATOS PARA COMPLETAR PRECIO
C32: PAGOS POR CAPACIDAD (eur/MWh)
B33: TARIFAS | C33: P 1 | D33: P 2 | E33: P 3 | F33: P 4 | G33: P 5 | H33: P 6 | K33: 𝐒𝐒AAh | L33: 18 | M33: eur/MWh
B34: 2.0TD | C34: 0.8 | D34: 0.133 | E34: 0 | F34: 0 | G34: 0 | H34: 0 | K34: POMh | L34: 0.0407 | M34: eur/MWh
B35: 3.0TD | C35: 1.082 | D35: 0.5 | E35: 0.333 | F35: 0.25 | G35: 0.25 | H35: 0 | K35: POSh | L35: 0.20332 | M35: eur/MWh
B36: 6.1TD | C36: 0.465 | D36: 0.213 | E36: 0.142 | F36: 0.107 | G36: 0.107 | H36: 0 | K36: Inth | L36: 0 | M36: eur/MWh
B37: 6.2TD | C37: 0.465 | D37: 0.213 | E37: 0.142 | F37: 0.107 | G37: 0.107 | H37: 0 | K37: FNEE | L37: 2.6577 | M37: eur/MWh
C39: PÉRDIDAS (%)
B40: TARIFAS | C40: P 1 | D40: P 2 | E40: P 3 | F40: P 4 | G40: P 5 | H40: P 6
B41: 2.0TD | C41: 0.156 | D41: 0.166 | E41: 0.195 | F41: 0 | G41: 0 | H41: 0
B42: 3.0TD | C42: 0.162 | D42: 0.184 | E42: 0.154 | F42: 0.15 | G42: 0.151 | H42: 0.195
B43: 6.1TD | C43: 0.065 | D43: 0.072 | E43: 0.061 | F43: 0.059 | G43: 0.047 | H43: 0.083
B44: 6.2TD | C44: 0.051 | D44: 0.057 | E44: 0.046 | F44: 0.045 | G44: 0.038 | H44: 0.059
C46: ATR ENERGIA (eur/MWh)
B47: 2.0TD | C47: 97.553 | D47: 29.267 | E47: 3.292 | F47: 0 | G47: 0 | H47: 0
B48: 3.0TD | C48: 63.352 | D48: 38.914 | E48: 19.279 | F48: 9.795 | G48: 4.706 | H48: 2.898
B49: 6.1TD | C49: 46.274 | D49: 26.717 | E49: 12.928 | F49: 6.678 | G49: 2.619 | H49: 1.588
B50: 6.2TD | C50: 23.88 | D50: 13.975 | E50: 6.2 | F50: 3.083 | G50: 1.234 | H50: 0.752
C52: ATR POTENCIA eur/kW año
B53: 2.0TD | C53: 27.704413 | D53: 0.725423
B54: 3.0TD | C54: 20.376927 | D54: 10.617621 | E54: 4.481534 | F54: 3.886333 | G54: 2.513851 | H54: 1.442287
B55: 6.1TD | C55: 29.595368 | D55: 15.514709 | E55: 6.801881 | F55: 5.393829 | G55: 2.125113 | H55: 1.004181
B56: 6.2TD | C56: 20.103588 | D56: 11.115668 | E56: 3.709113 | F56: 2.728152 | G56: 1.265617 | H56: 0.605381

Sheet LOTE 2 Gas
B1: LOTE 2 Gas
B3: .- Coeficientes objeto de licitación: Celdas verdes. .- Las celdas con fondo amarillo son los coeficientes regulados que se tomarán como fijos a los efectos del cálculo económico para valorar las ofertas de cada licitador. .- "DATOS PARA COMPLETAR PRECIO" únicamente a efectos de cálculo.
B5: COSTES ENERGÍA
B7: MIBGAS GMAES | C7: 50 | D7: (€/MWh)
B9: Precio (eur/MWh) = (K₁*PVB MA) + K₂ + FNEE
B11: FNEE | C11: 2.658 | D11: eur/MWh | E11: (Valor 2026)
B13: TARIFAS | C13: COEFICIENTE k1
B14: RL.1
B15: RL.2
B16: RL.3
B17: RL.4
B18: RLPS.2
B19: RLPS.3
B20: RLTB.5
B21: RLTB.6 | G21: DATOS PARA COMPLETAR PRECIO
H23: TV | M23: TF
B24: TARIFAS | C24: COEFICIENTE k2 (€/MWh) | H24: PEAJE | I24: FEE | J24: RESTO COSTES | K24: TM | L24: MERMAS | M24: €/MES
B25: RL.1 | G25: RL.1 | H25: 16.3189 | I25: 8 | J25: 8 | K25: 0.015 | L25: 0.015 | M25: 1.7045816
B26: RL.2 | G26: RL.2 | H26: 14.2362 | I26: 8 | J26: 8 | K26: 0.015 | L26: 0.015 | M26: 3.6883107
B27: RL.3 | G27: RL.3 | H27: 10.8224 | I27: 8 | J27: 8 | K27: 0.015 | L27: 0.015 | M27: 10.52939
B28: RL.4 | G28: RL.4 | H28: 13.9489 | I28: 8 | J28: 8 | K28: 0.015 | L28: 0.015 | M28: 28.745488
B29: RLPS.2 | G29: RLPS.2 | H29: 14.0982 | I29: 8 | J29: 8 | K29: 0.015 | L29: 0.015 | M29: 3.1328457
B30: RLPS.3 | G30: RLPS.3 | H30: 10.6844 | I30: 8 | J30: 8 | K30: 0.015 | L30: 0.015 | M30: 7.5505907
B31: RLTB.5 | G31: RLTB.5 | H31: 13.8865 | I31: 8 | J31: 8 | K31: 0.015 | L31: 0.015 | M31: 112.35054
B32: RLTB.6 | G32: RLTB.6 | H32: 5.6835 | I32: 8 | J32: 8 | K32: 0.015 | L32: 0.015 | M32: 660.09032
B35: TARIFAS | C35: Termino de Energía (€/MWh)
B36: RL.1 | C36: =(C25+C14*$C$7+$C$11) -> 2.658
B37: RL.2 | C37: =(C26+C15*$C$7+$C$11) -> 2.658
B38: RL.3 | C38: =(C27+C16*$C$7+$C$11) -> 2.658
B39: RL.4 | C39: =(C28+C17*$C$7+$C$11) -> 2.658
B40: RLPS.2 | C40: =(C29+C18*$C$7+$C$11) -> 2.658
B41: RLPS.3 | C41: =(C30+C19*$C$7+$C$11) -> 2.658
B42: RLTB.5 | C42: =(C31+C20*$C$7+$C$11) -> 2.658
B43: RLTB.6 | C43: =(C32+C21*$C$7+$C$11) -> 2.658
B44: Término energía CON ATR SIN IEH
B47: TARIFAS | C47: TERMINO FIJO (€/MES)
B48: RL.1
B49: RL.2
B50: RL.3
B51: RL.4
...

Sheet Datos CONSUMOS
B3: LOTE 1. ELECTRICIDAD
B5: CORREOS | C5: CONSUMOS 12 meses | K5: CORREOS | L5: POTENCIAS
B6: TARIFAS | C6: P1 (kWh) | D6: P2 (kWh) | E6: P3 (kWh) | F6: P4 (kWh) | G6: P5 (kWh) | H6: P6 (kWh) | I6: TOTAL | K6: TARIFAS | L6: P1 (kWh) | M6: P2 (kWh) | N6: P3 (kWh) | O6: P4 (kWh) | P6: P5 (kWh) | Q6: P6 (kWh)
B7: 2.0TD | C7: 2929044.5 | D7: 2573466.7 | E7: 2356419 | F7: 0 | G7: 0 | H7: 0 | I7: =SUM(C7:H7) -> 7858930.3 | K7: 2.0TD | L7: 10368.387 | M7: 10384.662 | N7: 0 | O7: 0 | P7: 0 | Q7: 0
B8: 3.0TD | C8: 8233247.1 | D8: 8074085.6 | E8: 7473668.5 | F8: 7823755.9 | G8: 2821242.5 | H8: 13912083 | I8: =SUM(C8:H8) -> 48338083 | K8: 3.0TD | L8: 28574.715 | M8: 29481.646 | N8: 31204.437 | O8: 31351.037 | P8: 31663.898 | Q8: 47109.109
B9: 6.1TD | C9: 5123405 | D9: 5659624 | E9: 5597275 | F9: 6202060 | G9: 2314815 | H9: 18829270 | I9: =SUM(C9:H9) -> 43726449 | K9: 6.1TD | L9: 12915.78 | M9: 13100.19 | N9: 13381.19 | O9: 13440.19 | P9: 13440.19 | Q9: 23007.76
B10: 6.2TD | C10: 211141 | D10: 259652 | E10: 241503 | F10: 289330 | G10: 127592 | H10: 1017199 | I10: =SUM(C10:H10) -> 2146417 | K10: 6.2TD | L10: 513 | M10: 513 | N10: 553 | O10: 553 | P10: 553 | Q10: 880
B11: TOTAL | C11: =SUM(C7:C10) -> 16496838 | D11: =SUM(D7:D10) -> 16566828 | E11: =SUM(E7:E10) -> 15668866 | F11: =SUM(F7:F10) -> 14315146 | G11: =SUM(G7:G10) -> 5263649.5 | H11: =SUM(H7:H10) -> 33758552 | I11: =SUM(C11:H11) -> 1.0206988e+08
B13: TELECOM | C13: P1 (kWh) | D13: P2 (kWh) | E13: P3 (kWh) | F13: P4 (kWh) | G13: P5 (kWh) | H13: P6 (kWh) | I13: TOTAL | K13: TELECOM | L13: P1 (kWh) | M13: P2 (kWh) | N13: P3 (kWh) | O13: P4 (kWh) | P13: P5 (kWh) | Q13: P6 (kWh)
B14: 2.0TD | C14: 139424.43 | D14: 138233.7 | E14: 313750.3 | I14: =SUM(C14:H14) -> 591408.43 | K14: 2.0TD | L14: 401.463 | M14: 401.463
B15: 3.0TD | C15: 72831.01 | D15: 88275.52 | E15: 75283.99 | F15: 89944.43 | G15: 40589 | H15: 420701.42 | I15: =SUM(C15:H15) -> 787625.37 | K15: 3.0TD | L15: 557.622 | M15: 557.622 | N15: 557.622 | O15: 557.622 | P15: 557.622 | Q15: 557.622
B16: 6.1TD | C16: 15739 | D16: 20074 | E16: 17900.62 | F16: 21804.93 | G16: 9830.8 | H16: 98384.66 | I16: =SUM(C16:H16) -> 183734.01 | K16: 6.1TD | L16: 230.07 | M16: 230.07 | N16: 230.07 | O16: 230.07 | P16: 230.07 | Q16: 246.07
B17: 6.2TD | C17: 2098 | D17: 2650 | E17: 2505 | F17: 2873 | G17: 1185 | H17: 13164 | I17: =SUM(C17:H17) -> 24475 | K17: 6.2TD | L17: 16 | M17: 16 | N17: 16 | O17: 16 | P17: 16 | Q17: 16
B18: TOTAL | C18: =SUM(C14:C17) -> 230092.44 | D18: =SUM(D14:D17) -> 249233.22 | E18: =SUM(E14:E17) -> 409439.91 | F18: =SUM(F14:F17) -> 114622.36 | G18: =SUM(G14:G17) -> 51604.8 | H18: =SUM(H14:H17) -> 532250.08 | I18: =SUM(C18:H18) -> 1587242.8
B20: CEX | C20: CONSUMOS 12 meses | K20: CEX | L20: POTENCIAS
B21: TARIFAS | C21: P1 (kWh) | D21: P2 (kWh) | E21: P3 (kWh) | F21: P4 (kWh) | G21: P5 (kWh) | H21: P6 (kWh) | I21: TOTAL | K21: TARIFAS | L21: P1 (kWh) | M21: P2 (kWh) | N21: P3 (kWh) | O21: P4 (kWh) | P21: P5 (kWh) | Q21: P6 (kWh)
B22: 2.0TD | C22: 128286.17 | D22: 123420.2 | E22: 125301.95 | I22: =SUM(C22:H22) -> 377008.32 | K22: 2.0TD | L22: 149.65 | M22: 149.65 | N22: 0 | O22: 0 | P22: 0 | Q22: 0
B23: 3.0TD | C23: 999836.59 | D23: 1023358.9 | E23: 923456.48 | F23: 975449.71 | G23: 364766.41 | H23: 2102956.3 | I23: =SUM(C23:H23) -> 6389824.4 | K23: 3.0TD | L23: 1821.98 | M23: 1821.98 | N23: 1821.98 | O23: 1821.98 | P23: 1821.98 | Q23: 1821.98
B24: 6.1TD | C24: 132072.62 | D24: 141708.11 | E24: 145053.67 | F24: 163583.07 | G24: 59473.203 | H24: 456153.73 | I24: =SUM(C24:H24) -> 1098044.4 | K24: 6.1TD | L24: 240 | M24: 240 | N24: 240 | O24: 240 | P24: 240 | Q24: 658.2
B25: TOTAL | C25: =SUM(C22:C24) -> 1260195.4 | D25: =SUM(D22:D24) -> 1288487.2 | E25: =SUM(E22:E24) -> 1193812.1 | F25: =SUM(F22:F24) -> 1139032.8 | G25: =SUM(G22:G24) -> 424239.61 | H25: =SUM(H22:H24) -> 2559110 | I25: =SUM(C25:H25) -> 7864877.1
B27: TOTAL | C27: P1 (kWh) | D27: P2 (kWh) | E27: P3 (kWh) | F27: P4 (kWh) | G27: P5 (kWh) | H27: P6 (kWh) | I27: TOTAL | K27: TOTAL | L27: P1 (kWh) | M27: P2 (kWh) | N27: P3 (kWh) | O27: P4 (kWh) | P27: P5 (kWh) | Q27: P6 (kWh)
B28: 2.0TD | C28: =+C14+C7+C22 -> 3196755.1 | D28: =+D14+D7+D22 -> 2835120.6 | E28: =+E14+E7+E22 -> 2795471.3 | F28: =+F14+F7 -> 0 | G28: =+G14+G7 -> 0 | H28: =+H14+H7 -> 0 | I28: =SUM(C28:H28) -> 8827347 | K28: 2.0TD | L28: =+L14+L7+L22 -> 10919.5 | M28: =+M14+M7+M22 -> 10935.775 | N28: =+N14+N7+N22 -> 0 | O28: =+O14+O7+O22 -> 0 | P28: =+P14+P7+P22 -> 0 | Q28: =+Q14+Q7+Q22 -> 0
B29: 3.0TD | C29: =+C15+C8+C23 -> 9305914.7 | D29: =+D15+D8+D23 -> 9185720 | E29: =+E15+E8+E23 -> 8472409 | F29: =+F15+F8+F23 -> 8889150.1 | G29: =+G15+G8+G23 -> 3226597.9 | H29: =+H15+H8+H23 -> 16435741 | I29: =SUM(C29:H29) -> 55515532 | K29: 3.0TD | L29: =+L15+L8+L23 -> 30954.317 | M29: =+M15+M8+M23 -> 31861.248 | N29: =+N15+N8+N23 -> 33584.039 | O29: =+O15+O8+O23 -> 33730.639 | P29: =+P15+P8+P23 -> 34043.5 | Q29: =+Q15+Q8+Q23 -> 49488.711
B30: 6.1TD | C30: =+C16+C9+C24 -> 5271216.6 | D30: =+D16+D9+D24 -> 5821406.1 | E30: =+E16+E9+E24 -> 5760229.3 | F30: =+F16+F9+F24 -> 6387448 | G30: =+G16+G9+G24 -> 2384119 | H30: =+H16+H9+H24 -> 19383808 | I30: =SUM(C30:H30) -> 45008227 | K30: 6.1TD | L30: =+L16+L9+L24 -> 13385.85 | M30: =+M16+M9+M24 -> 13570.26 | N30: =+N16+N9+N24 -> 13851.26 | O30: =+O16+O9+O24 -> 13910.26 | P30: =+P16+P9+P24 -> 13910.26 | Q30: =+Q16+Q9+Q24 -> 23912.03
B31: 6.2TD | C31: =+C17+C10 -> 213239 | D31: =+D17+D10 -> 262302 | E31: =+E17+E10 -> 244008 | F31: =+F17+F10 -> 292203 | G31: =+G17+G10 -> 128777 | H31: =+H17+H10 -> 1030363 | I31: =SUM(C31:H31) -> 2170892 | K31: 6.2TD | L31: =+L17+L10 -> 529 | M31: =+M17+M10 -> 529 | N31: =+N17+N10 -> 569 | O31: =+O17+O10 -> 569 | P31: =+P17+P10 -> 569 | Q31: =+Q17+Q10 -> 896
B32: TOTAL | C32: =SUM(C28:C31) -> 17987125 | D32: =SUM(D28:D31) -> 18104549 | E32: =SUM(E28:E31) -> 17272118 | F32: =SUM(F28:F31) -> 15568801 | G32: =SUM(G28:G31) -> 5739493.9 | H32: =SUM(H28:H31) -> 36849912 | I32: =SUM(C32:H32) -> 1.11522e+08
B38: LOTE 2. GAS
B40: TARIFAS | C40: Nº SUMINISTROS | F40: CONSUMOS 12 meses | I40: TOTAL
B41: RL.1 | C41: 5 | F41: 10339.51 | I41: =SUM(F41:H41) -> 10339.51
B42: RL.2 | C42: 10 | F42: 101536.96 | I42: =SUM(F42:H42) -> 101536.96
B43: RL.3 | C43: 20 | F43: 528566.26 | I43: =SUM(F43:H43) -> 528566.26
B44: RL.4 | C44: 27 | F44: 3413700.2 | I44: =SUM(F44:H44) -> 3413700.2
B45: RLPS.2 | C45: 1 | F45: 7135.59 | I45: =SUM(F45:H45) -> 7135.59
B46: RLPS.3 | C46: 2 | F46: 64293.91 | I46: =SUM(F46:H46) -> 64293.91
B47: RLTB.5 | C47: 11 | F47: 8020153 | I47: =SUM(F47:H47) -> 8020153
B48: RLTB.6 | C48: 1 | F48: 3065979 | I48: =SUM(F48:H48) -> 3065979
B49: TOTAL | C49: =SUM(C41:C48) -> 77 | F49: =SUM(F41:F48) -> 15211704 | I49: =SUM(F49:H49) -> 15211704
