Workbook

Sheet Precios unitarios ofertados
B1: PVPs en € y 2 decimales | C1: PVP MAXIMO
A2: Precio llamada útil atendida y/o realizada CEX en ESNGC | C2: 1.87
A3: Precio llamada útil atendida y/o realizada CORREOS en ESNGC | C3: 2.3
A4: Precio Tarea útil CEX& CORREOS en ESNGC | C4: 1.37
A5: Precio Hora RAC CEX&CORREOS en ESNGC | C5: 22.21
A6: Precio Contacto Util - CU CORREOS en ESNGC | B6: 5 | C6: Precio FIJO
A7: Precio Compromiso Util CORREOS en ESNGC | B7: 10 | C7: Precio FIJO
A8: Precio Contratación Util CORREOS en ESNGC | B8: 50 | C8: Precio FIJO
A9: Precio Hora Evolutivos CORREOS | B9: 60 | C9: Precio FIJO
A11: Si en el rango B2 a B5 se introducen valores unitarios por encima del precio MAXIMO, se iluminará en ROJO la celda indicando que no es válida la propuesta | B11: Para incluir su oferta en las celdas sombreadas, le pedirá la contraseña "SAC" en mayusculas

Sheet Modelo de Oferta Económica
C2: Modelo Oferta Económica (Para los 2 primeros AÑOS, 2026-2028)
B4: NEGOCIO/SERVICIO CON LLAMADAS | C4: Nº estimado llamadas útiles atendidas y/o exitosas realizadas | E4: PVPs ofertado llamada | F4: Importe Total | H4: Importe Total
D5: PVP ESNGC máximo permitido | E5: (IVA excluido) | F5: (total llamadas x precio llamada IVA excluido) | G5: IVA | H5: (total llamadas x precio llamada IVA incluido)
B6: CEX | C6: 576012 | D6: =+'Precios unitarios ofertados'!C2 -> 1.87 | E6: =+'Precios unitarios ofertados'!B2 -> 0 | F6: =+E6*C6 -> 0 | G6: =+F6*21% -> 0 | H6: =(F6+(F6*21%)) -> 0
B7: CORREOS | C7: 1657848 | D7: =+'Precios unitarios ofertados'!C3 -> 2.3 | E7: =+'Precios unitarios ofertados'!B3 -> 0 | F7: =+E7*C7 -> 0 | G7: =+F7*21% -> 0 | H7: =(F7+(F7*21%)) -> 0
B8: Total Llamadas GC | C8: =+C6+C7 -> 2233860 | E8: Precio Total | F8: =(F6+F7) -> 0 | G8: =+G7+G6 -> 0 | H8: =(H6+H7) -> 0
F9: A | G9: IVA de A | H9: A + IVA
B11: NEGOCIO/SERVICIOS CON TAREAS | C11: Nº estimado Tareas útiles gestionadas | E11: PVP ofertado Tarea | F11: Importe Total | H11: Importe Total
D12: PVP ESNGC máximo permitido | E12: (IVA excluido) | F12: (total tareas x precio tarea IVA excluido) | G12: IVA | H12: (total tarea x precio tarea IVA incluido)
B13: CEX | C13: 2468664 | D13: =+'Precios unitarios ofertados'!C4 -> 1.37 | E13: =+'Precios unitarios ofertados'!B4 -> 0 | F13: =+E13*C13 -> 0 | G13: =+F13*21% -> 0 | H13: =(F13+(F13*21%)) -> 0
B14: CORREOS | C14: 7159356 | F14: =+E13*C14 -> 0 | G14: =+F14*21% -> 0 | H14: =(F14+(F14*21%)) -> 0
B15: Total Tareas GC | C15: =+C13+C14 -> 9628020 | E15: Precio Total | F15: =(F13+F14) -> 0 | G15: =+G14+G13 -> 0 | H15: =(H13+H14) -> 0
F16: B | G16: IVA de B | H16: B + IVA
B18: NEGOCIO/SERVICIO por HORAS | C18: Nº estimado Horas útiles operativas de RACs | E18: PVP ofertado Hora RAC | F18: Importe Total | H18: Importe Total
D19: PVP ESNGC máximo permitido | E19: (IVA excluido) | F19: (total horas x precio hora IVA excluido) | G19: IVA | H19: (total horas x precio hora IVA incluido)
B20: CEX | C20: 11220 | D20: =+'Precios unitarios ofertados'!C5 -> 22.21 | E20: =+'Precios unitarios ofertados'!B5 -> 0 | F20: =+E20*C20 -> 0 | G20: =+F20*21% -> 0 | H20: =(F20+(F20*21%)) -> 0
B21: CORREOS | C21: 74232 | F21: =+E20*C21 -> 0 | G21: =+F21*21% -> 0 | H21: =(F21+(F21*21%)) -> 0
B22: Total Horas RAC GC | C22: =+C20+C21 -> 85452 | E22: Precio Total | F22: =(F20+F21) -> 0 | G22: =+G20+G21 -> 0 | H22: =(H20+H21) -> 0
F23: C | G23: IVA de C | H23: C + IVA
B25: SERVICIO CAMPAÑAS (Correos) | C25: Nº estimado de actividad útil en Campañas por éxito | E25: PVPs éxito | F25: Importe Total | H25: Importe Total
D26: PVP ESNGC fijo | E26: (IVA excluido) | F26: (total actividad x precio IVA excluido) | G26: IVA | H26: (total actividad x precio IVA incluido)
B27: Contactos útles CORREOS | C27: 158352 | D27: 5 | E27: =+'Precios unitarios ofertados'!B6 -> 5 | F27: =+E27*C27 -> 791760 | G27: =+F27*21% -> 166269.6 | H27: =(F27+(F27*21%)) -> 958029.6
B28: Compromisos útiles CORREOS | C28: 24744 | D28: 10 | E28: =+'Precios unitarios ofertados'!B7 -> 10 | F28: =+E28*C28 -> 247440 | G28: =+F28*21% -> 51962.4 | H28: =(F28+(F28*21%)) -> 299402.4
B29: Contrataciones útiles CORREOS | C29: 2472 | D29: 50 | E29: =+'Precios unitarios ofertados'!B8 -> 50 | F29: =+E29*C29 -> 123600 | G29: =+F29*21% -> 25956 | H29: =(F29+(F29*21%)) -> 149556
E30: Precio Total | F30: =(F27+F28+F29) -> 1162800 | G30: =+G27+G28+G29 -> 244188 | H30: =(H27+H28+H29) -> 1406988
F31: D | G31: IVA de D | H31: D + IVA
B33: HORAS EVOLUTIVOS (Correos) | C33: Nº estimado Horas de desarrollo para evolutivos | E33: PVP Hora desarrollo | F33: Importe Total | H33: Importe Total
D34: PVP ESNGC fijo | E34: (IVA excluido) | F34: (total horas desarrollo x precio hora desarrollo IVA excluido) | G34: IVA | H34: (total horas desarrollo x precio hora desarrollo IVA incluido)
B35: Horas desarrollo evolutivos CORREOS | C35: 4200 | D35: 60 | E35: =+'Precios unitarios ofertados'!B9 -> 60 | F35: =+E35*C35 -> 252000 | G35: =+F35*21% -> 52920 | H35: =(F35+(F35*21%)) -> 304920
E36: Precio Total | F36: =F35 -> 252000 | G36: =+G35 -> 52920 | H36: =H35 -> 304920
F37: E | G37: IVA de E | H37: E + IVA
B39: IMPORTE TOTAL A+B+C+D+E (IVA EXCLUIDO) >> | F39: =SUM(F8,F15,F22,F30,F36) -> 1414800
B40: IMPORTE TOTAL A+B+C+D+E (IVA INCLUIDO) >> | F40: >>>>>>>>>>>>>>>>> | G40: >>>>>>>>>>> | H40: =SUM(H8,H15,H22,H30,H36) -> 1711908
B42: IMPORTE TOTAL CEX A+B+C (IVA EXCLUIDO) >> | F42: =+F6+F13+F20 -> 0
B43: IMPORTE TOTAL CEX A+B+C (IVA INCLUIDO) >> | F43: >>>>>>>>>>>>>>>>> | G43: >>>>>>>>>>> | H43: =+F42*1.21 -> 0
B45: IMPORTE TOTAL CORREOS A+B+C+D+E (IVA EXCLUIDO) >> | F45: =+F7+F14+F21+F27+F28+F29+F35 -> 1414800
B46: IMPORTE TOTAL CORREOS A+B+C+D+E (IVA INCLUIDO) >> | F46: >>>>>>>>>>>>>>>>> | G46: >>>>>>>>>>> | H46: =+F45*1.21 -> 1711908
